BEGIN:VCALENDAR
VERSION:2.0
PRODID:-//ChamberMaster//Event Calendar 2.0//EN
METHOD:PUBLISH
X-PUBLISHED-TTL:P3D
REFRESH-INTERVAL:P3D
CALSCALE:GREGORIAN
BEGIN:VEVENT
DTSTART;VALUE=DATE:20110615
DTEND;VALUE=DATE:20110812
TRANSP:TRANSPARENT
X-MICROSOFT-CDO-ALLDAYEVENT:TRUE
SUMMARY:Summer Movie Excitement Kicks Off In June!
DESCRIPTION:@font-face {\n  font-family: "Arial"\;\n}@font-face {\n  font-family: "Times"\;\n}@font-face {\n  font-family: "Tms Rmn"\;\n}@font-face {\n  font-family: "Cambria"\;\n}@font-face {\n  font-family: "Tahoma"\;\n}p.MsoNormal\, li.MsoNormal\, div.MsoNormal { margin: 0in 0in 0.0001pt\; font-size: 12pt\; font-family: "Times New Roman"\; }a:link\, span.MsoHyperlink { color: blue\; text-decoration: underline\; }a:visited\, span.MsoHyperlinkFollowed { color: purple\; text-decoration: underline\; }div.Section1 { page: Section1\; }\n\n	Elmhurst\, IL   The Wednesday Morning Movie Series kicks off on June 15\, 2011\, with a presentation of Alpha & Omega at the York Theatre\, 150 N. York Rd. Each Wednesday morning\, from June 15 through August 10\, 2011\, Classic Cinemas theatres will present nine G or PG rated films for only $1 per person. The show begins each Wednesday at 10 a.m.\, with doors opening at 9 a.m.  Movie-goers are encouraged to come early to meet some favorite characters and join in fun and games before the movie begins. It's practically magical! \n\n	 \n\n	Classic Cinemas takes reservations for groups of 15 or more for the Wednesday Morning Movie Series. The special group rate is just $4.50 per person (adults and children) and includes admission\, Kiddie Combo (a child sized popcorn\, soft drink\, and fruit snack) and reserved seating. This special package offers a $1.00 discount on each Kiddie Combo and allows your group to sit together.  For more information on group reservations\, please visit http://www.classiccinemas.com/Content.aspx?page=156.\n\n	 \n\n	Wednesday Morning Movie Series at York Theatre in June:\n\n	 \n\n	June 15:     Alpha & Omega\n\n	Two young wolves at opposite ends of their pack's social order are thrown together into a foreign land and need each other to return home\, but love complicates everything. \n\n	 \n\n	June 22:     Yogi Bear\n\n	A documentary filmmaker travels to Jellystone Park to shoot a project and soon crosses paths with Yogi Bear\, his sidekick Boo-Boo\, and Ranger Smith. \n\n	 \n\n	June 29:     Shrek Forever After\n\n	Rumpelstiltskin tricks a mid-life crisis burdened Shrek into allowing himself to be erased from existence and cast in a dark alternate timeline where Rumpel rules supreme. \n\n	 \n\n	The upcoming schedule of Wednesday morning movies at York Theatre for the months of July and August to include: Gulliver's Travels on July 6\, Despicable Me on July 13\, Nanny McPhee Returns on July 20\, Cats & Dogs: The Revenge of Kitty Galore on July 27\, Megamind on August 3\, and a Surprise Movie on August 10.
X-ALT-DESC;FMTTYPE=text/html:<style type="text/css">\n@font-face {\n  font-family: "Arial"\;\n}@font-face {\n  font-family: "Times"\;\n}@font-face {\n  font-family: "Tms Rmn"\;\n}@font-face {\n  font-family: "Cambria"\;\n}@font-face {\n  font-family: "Tahoma"\;\n}p.MsoNormal\, li.MsoNormal\, div.MsoNormal { margin: 0in 0in 0.0001pt\; font-size: 12pt\; font-family: "Times New Roman"\; }a:link\, span.MsoHyperlink { color: blue\; text-decoration: underline\; }a:visited\, span.MsoHyperlinkFollowed { color: purple\; text-decoration: underline\; }div.Section1 { page: Section1\; }</style>\n<p class="MsoNormal" style="margin-right: 0.25in\; line-height: 150%\;">\n	<span style="font-family: Tahoma\;">Elmhurst\, IL &ndash\; </span><span style="font-family: Tahoma\; color: black\;">The Wednesday Morning Movie Series kicks off </span><span style="font-family: Tahoma\;">on June 15\, 2011\, with a presentation of Alpha &amp\; Omega at the York Theatre\, 150 N. York Rd. Each Wednesday morning\, from June 15 through August 10\, 2011\, Classic Cinemas theatres will present nine G or PG rated films for only $1 per person. </span><span style="font-family: Tahoma\; color: black\;">The show begins each Wednesday at 10 a.m.\, with doors opening at 9 a.m.<span style="">&nbsp\; </span></span><span style="font-family: Tahoma\;">Movie-goers are encouraged to come early to meet some favorite characters and join in fun and games before the movie begins. It&rsquo\;s practically magical! </span></p>\n<p class="MsoNormal" style="line-height: 150%\;">\n	<span style="font-family: Tahoma\;">&nbsp\;</span></p>\n<p class="MsoNormal" style="margin-right: -9pt\; line-height: 150%\;">\n	<span style="font-family: Tahoma\;">Classic Cinemas takes reservations for groups of 15 or more for the Wednesday Morning Movie Series. The special group rate is just $4.50 per person (adults and children) and includes admission\, Kiddie Combo (a child sized popcorn\, soft drink\, and fruit snack) and <u>reserved</u> seating. </span><span style="font-family: Arial\;">This special package offers a $1.00 discount on each Kiddie Combo and allows your group to sit together.</span><span style="font-size: 14pt\; line-height: 150%\; font-family: Arial\; color: rgb(0\, 102\, 204)\;"> <em><span style="font-family: Arial\; display: none\;">&nbsp\;</span></em></span><span style="font-family: Tahoma\;">For more information on group reservations\, please visit <a href="http://www.classiccinemas.com/Content.aspx?page=156">http://www.classiccinemas.com/Content.aspx?page=156</a>.</span></p>\n<p class="MsoNormal" style="margin-right: 0.25in\;">\n	<span style="font-family: Tahoma\;">&nbsp\;</span></p>\n<p class="MsoNormal" style="margin-right: 0.25in\; line-height: 150%\;">\n	<span style="font-family: Tahoma\;">Wednesday Morning Movie Series at York Theatre in June:</span></p>\n<p class="MsoNormal" style="margin-right: 0.25in\; line-height: 150%\;">\n	<span style="font-family: Tahoma\;">&nbsp\;</span></p>\n<p class="MsoNormal" style="margin-right: 0.25in\; line-height: 150%\;">\n	<span style="font-family: Tahoma\;">June 15:<span style="">&nbsp\;&nbsp\;&nbsp\;&nbsp\; </span>Alpha &amp\; Omega</span></p>\n<p class="MsoNormal" style="margin: 0in 0.25in 0.0001pt 0.5in\;">\n	<span style="font-family: Tahoma\;">Two young wolves at opposite ends of their pack&#39\;s social order are thrown together into a foreign land and need each other to return home\, but love complicates everything. </span></p>\n<p class="MsoNormal" style="margin: 0in 0.25in 0.0001pt 0.5in\;">\n	<span style="font-family: Tahoma\;">&nbsp\;</span></p>\n<p class="MsoNormal" style="margin-right: 0.25in\; line-height: 150%\;">\n	<span style="font-family: Tahoma\;">June 22:<span style="">&nbsp\;&nbsp\;&nbsp\;&nbsp\; </span>Yogi Bear</span></p>\n<p class="MsoNormal" style="margin: 0in 0.25in 0.0001pt 0.5in\;">\n	<span style="font-family: Tahoma\;">A documentary filmmaker travels to Jellystone Park to shoot a project and soon crosses paths with Yogi Bear\, his sidekick Boo-Boo\, and Ranger Smith. </span></p>\n<p class="MsoNormal" style="margin-right: 0.25in\;">\n	<span style="font-family: Tahoma\;">&nbsp\;</span></p>\n<p class="MsoNormal" style="margin-right: 0.25in\; line-height: 150%\;">\n	<span style="font-family: Tahoma\;">June 29:<span style="">&nbsp\;&nbsp\;&nbsp\;&nbsp\; </span>Shrek Forever After</span></p>\n<p class="MsoNormal" style="margin: 0in 0.25in 0.0001pt 0.5in\;">\n	<span style="font-family: Tahoma\;">Rumpelstiltskin tricks a mid-life crisis burdened Shrek into allowing himself to be erased from existence and cast in a dark alternate timeline where Rumpel rules supreme. </span></p>\n<p class="MsoNormal" style="margin-right: 0.25in\;">\n	<span style="font-family: Tahoma\;">&nbsp\;</span></p>\n<p class="MsoNormal" style="margin-right: 0.25in\; line-height: 150%\;">\n	<span style="font-family: Tahoma\;">The upcoming schedule of Wednesday morning movies at York Theatre for the months of July and August to include: Gulliver&rsquo\;s Travels on July 6\, Despicable Me on July 13\, Nanny McPhee Returns on July 20\, Cats &amp\; Dogs: The Revenge of Kitty Galore on July 27\, Megamind on August 3\, and a Surprise Movie on August 10.</span></p>\n
LOCATION:York Theatre 150 N. York Road Elmhurst\, IL
UID:e.333.4237
SEQUENCE:3
DTSTAMP:20260425T161806Z
URL:https://chambermaster.elmhurstchamber.org/events/details/summer-movie-excitement-kicks-off-in-june-06-15-2011-4237
END:VEVENT

END:VCALENDAR
