BEGIN:VCALENDAR
VERSION:2.0
PRODID:-//ChamberMaster//Event Calendar 2.0//EN
METHOD:PUBLISH
X-PUBLISHED-TTL:P3D
REFRESH-INTERVAL:P3D
CALSCALE:GREGORIAN
BEGIN:VEVENT
DTSTART:20110821T200000Z
DTEND:20110821T210000Z
X-MICROSOFT-CDO-ALLDAYEVENT:FALSE
SUMMARY:Summer Music Concert
DESCRIPTION:Cellist Russell Rolen with pianist Jeffrey Panko will perform Sonatas for Cello by Rachmaninoff and Barber.
X-ALT-DESC;FMTTYPE=text/html:Cellist Russell Rolen with pianist Jeffrey Panko will perform Sonatas for Cello by Rachmaninoff and Barber.
LOCATION:Bethel United Church of Christ 315 E St. Charles Road
UID:e.333.4268
SEQUENCE:3
DTSTAMP:20260425T161529Z
URL:https://chambermaster.elmhurstchamber.org/events/details/summer-music-concert-08-21-2011-4268
END:VEVENT

END:VCALENDAR
