BEGIN:VCALENDAR
VERSION:2.0
PRODID:-//ChamberMaster//Event Calendar 2.0//EN
METHOD:PUBLISH
X-PUBLISHED-TTL:P3D
REFRESH-INTERVAL:P3D
CALSCALE:GREGORIAN
BEGIN:VEVENT
DTSTART:20110828T200000Z
DTEND:20110828T210000Z
X-MICROSOFT-CDO-ALLDAYEVENT:FALSE
SUMMARY:Summer Music Concert
DESCRIPTION:A potpourri of music. Baritone Evan Bravos will present Ralph Vaughan Williams' Songs of Travel\, Barber's Knoxville\, Summer of 1915 will be sung by soprano Christine Steyer (both works in English) and pianist Jeffrey Panko will play Piano Trio by Tchaikovsky.
X-ALT-DESC;FMTTYPE=text/html:A potpourri of&nbsp\;music. Baritone Evan Bravos will present Ralph Vaughan Williams&#39\; Songs of Travel\,&nbsp\;Barber&#39\;s Knoxville\, Summer of 1915 will be sung by soprano Christine Steyer (both works in English) and pianist Jeffrey Panko will play Piano Trio by Tchaikovsky.
LOCATION:Bethel United Church of Christ 315 E St. Charles Road
UID:e.333.4269
SEQUENCE:3
DTSTAMP:20260425T152726Z
URL:https://chambermaster.elmhurstchamber.org/events/details/summer-music-concert-08-28-2011-4269
END:VEVENT

END:VCALENDAR
