BEGIN:VCALENDAR
VERSION:2.0
PRODID:-//ChamberMaster//Event Calendar 2.0//EN
METHOD:PUBLISH
X-PUBLISHED-TTL:P3D
REFRESH-INTERVAL:P3D
CALSCALE:GREGORIAN
BEGIN:VEVENT
DTSTART:20130611T000000Z
DTEND:20130709T020000Z
X-MICROSOFT-CDO-ALLDAYEVENT:FALSE
SUMMARY:Summer String Orchestra
DESCRIPTION:Ages 12 and Older\n\n	Summer String Orchestra is for string players who are of the intermediate level and have been part of an orchestra.  This is a great opportunity for the serious musician to receive instruction in a variety of music from classical to jazz from the members of the Elmhurst Symphony.  The goal of the summer program is for each student to grow musically and personally while experiencing a variety of music.  Participants will have an opportunity to perform for friends and family at a final concert on Tuesday\, July 9\, 2013.
X-ALT-DESC;FMTTYPE=text/html:<p class="MsoNormal" style="margin: 0in 0in 0pt 0.1in\;">\n	<font color="#000000" face="Calibri" size="3">Ages 12 and Older</font></p>\n<p class="MsoNormal" style="margin: 0in 0in 0pt 0.1in\;">\n	<font color="#000000" face="Calibri" size="3">Summer String Orchestra is for string players who are of the intermediate level and have been part of an orchestra.<span style="mso-spacerun: yes\;">&nbsp\; </span>This is a great opportunity for the serious musician to receive instruction in a variety of music from classical to jazz from the members of the Elmhurst Symphony.<span style="mso-spacerun: yes\;">&nbsp\; </span>The goal of the summer program is for each student to grow musically and personally while experiencing a variety of music.<span style="mso-spacerun: yes\;">&nbsp\; </span>Participants will have an opportunity to perform for friends and family at a final concert on Tuesday\, July 9\, 2013.</font></p>\n
LOCATION:Wagner Community Center
UID:e.333.5309
SEQUENCE:3
DTSTAMP:20260422T145425Z
URL:https://chambermaster.elmhurstchamber.org/events/details/summer-string-orchestra-06-10-2013-5309
END:VEVENT

END:VCALENDAR
