BEGIN:VCALENDAR
VERSION:2.0
PRODID:-//ChamberMaster//Event Calendar 2.0//EN
METHOD:PUBLISH
X-PUBLISHED-TTL:P3D
REFRESH-INTERVAL:P3D
CALSCALE:GREGORIAN
BEGIN:VEVENT
DTSTART:20110410T180000Z
DTEND:20110410T200000Z
X-MICROSOFT-CDO-ALLDAYEVENT:FALSE
SUMMARY:Sunday Funday: April Showers Umbrellas
DESCRIPTION:Rain\, rain...go away! Kids will decorate a colorful mini umbrella to keep April showers at bay. Drop-in family craft workshop for children 4-12 accompanied by an adult\; no reservations required. Members: FREE\; Non-Members: $2.
X-ALT-DESC;FMTTYPE=text/html:Rain\, rain...go away! Kids will decorate a colorful mini umbrella to keep April showers at bay. Drop-in family craft workshop for children 4-12 accompanied by an adult\; no reservations required. Members: FREE\; Non-Members: $2. 
LOCATION:Elmhurst Historical Museum Education Center 120 E. Park Ave. Elmhurst
UID:e.333.4100
SEQUENCE:3
DTSTAMP:20260425T204905Z
URL:https://chambermaster.elmhurstchamber.org/events/details/sunday-funday-april-showers-umbrellas-04-10-2011-4100
END:VEVENT

END:VCALENDAR
