BEGIN:VCALENDAR
VERSION:2.0
PRODID:-//ChamberMaster//Event Calendar 2.0//EN
METHOD:PUBLISH
X-PUBLISHED-TTL:P3D
REFRESH-INTERVAL:P3D
CALSCALE:GREGORIAN
BEGIN:VEVENT
DTSTART:20101114T190000Z
DTEND:20101114T210000Z
X-MICROSOFT-CDO-ALLDAYEVENT:FALSE
SUMMARY:Sunday Funday: Quarry Rocks
DESCRIPTION:Kids will make realistic looking rocks just like those found in the Elmhurst Quarry during this family craft workshop. Drop-in program for children ages 4 to12 accompanied by an adult\, no reservations required.
X-ALT-DESC;FMTTYPE=text/html:Kids will make realistic looking rocks just like those found in the Elmhurst Quarry during this family craft workshop. Drop-in program for children ages 4 to12 accompanied by an adult\, no reservations required.  
LOCATION:Elmhurst Historical Museum Education Center 120 E. Park Ave. Elmhurst\, IL 60126
UID:e.333.3479
SEQUENCE:3
DTSTAMP:20260426T042902Z
URL:https://chambermaster.elmhurstchamber.org/events/details/sunday-funday-quarry-rocks-11-14-2010-3479
END:VEVENT

END:VCALENDAR
