BEGIN:VCALENDAR
VERSION:2.0
PRODID:-//ChamberMaster//Event Calendar 2.0//EN
METHOD:PUBLISH
X-PUBLISHED-TTL:P3D
REFRESH-INTERVAL:P3D
CALSCALE:GREGORIAN
BEGIN:VEVENT
DTSTART:20110313T180000Z
DTEND:20110313T200000Z
X-MICROSOFT-CDO-ALLDAYEVENT:FALSE
SUMMARY:Sunday Funday: Tin Can Planters
DESCRIPTION:How does your garden grow? Get a head start on the season by creating a recycled tin can planter filled with spring plants. Drop-in family craft workshop for children 4-12 accompanied by an adult\; no reservations required. Members: FREE\; Non-Members: $2.
X-ALT-DESC;FMTTYPE=text/html:How does your garden grow? Get a head start on the season by creating a recycled tin can planter filled with spring plants. Drop-in family craft workshop for children 4-12 accompanied by an adult\; no reservations required. Members: FREE\; Non-Members: $2. 
LOCATION:Elmhurst Historical Museum Education Center 120 E. Park Ave.\, Elmhurst
UID:e.333.4099
SEQUENCE:3
DTSTAMP:20260425T222020Z
URL:https://chambermaster.elmhurstchamber.org/events/details/sunday-funday-tin-can-planters-03-13-2011-4099
END:VEVENT

END:VCALENDAR
