BEGIN:VCALENDAR
VERSION:2.0
PRODID:-//ChamberMaster//Event Calendar 2.0//EN
METHOD:PUBLISH
X-PUBLISHED-TTL:P3D
REFRESH-INTERVAL:P3D
CALSCALE:GREGORIAN
BEGIN:VEVENT
DTSTART:20121223T160000Z
DTEND:20130311T161500Z
X-MICROSOFT-CDO-ALLDAYEVENT:FALSE
SUMMARY:Sunday Worship Service - Journey Church
DESCRIPTION:There's a NEW church in Elmhurst!\n\n\n\nYou are invited to join us each Sunday @ 10AM!\n\n\n\nJOURNEY CHURCH is a non-denominational Christian Church. Sunday Worship Services offers a comfortable\, engaging experience\, with a LIVE worship band\, relevant teaching from the Bible\, and creative media\, all designed to help people connect with God.\n\n\n\nExciting programs for children and teens!\n\n\n\nDress is casual. Coffee is hot. People are real.\n\n\n\nMeeting at the Waterford Conference Center | Sundays at 10AM\n\n933 South Riverside Drive Elmhurst | opposite from the Wal-Mart on Hwy 83\n\n\n\nVisit us online: www.JourneyChurchElmhurst.com\n\nChurch Office: 630-200-1410\n\n info@journeychurchelmhurst.com
X-ALT-DESC;FMTTYPE=text/html:<em><strong>There&#39\;s a NEW church in Elmhurst!</strong></em><br />\n<br />\n<strong>You are invited to join us each Sunday @ 10AM!</strong><br />\n<br />\n<strong>JOURNEY CHURCH</strong> is a non-denominational Christian Church. Sunday Worship Services offers a comfortable\, engaging experience\, with a LIVE worship band\, relevant teaching from the Bible\, and creative media\, all designed to help people connect with God.<br />\n<br />\nExciting programs for children and teens!<br />\n<br />\n<strong>Dress is casual. Coffee is hot. People are real.</strong><br />\n<br />\nMeeting at the Waterford Conference Center | Sundays at 10AM<br />\n933 South Riverside Drive Elmhurst | opposite from the Wal-Mart on Hwy 83<br />\n<br />\nVisit us online: www.JourneyChurchElmhurst.com<br />\nChurch Office: 630-200-1410<br />\n&nbsp\;info@journeychurchelmhurst.com<br />\n
LOCATION:Waterford Conference Center: 933 South Riverside Drive Elmhurst\, IL 60126 (Connected to the Clarion Inn\; across from the Wal-Mart on Hwy 83)
UID:e.333.5087
SEQUENCE:3
DTSTAMP:20260424T085243Z
URL:https://chambermaster.elmhurstchamber.org/events/details/sunday-worship-service-journey-church-12-23-2012-5087
END:VEVENT

END:VCALENDAR
