BEGIN:VCALENDAR
VERSION:2.0
PRODID:-//ChamberMaster//Event Calendar 2.0//EN
METHOD:PUBLISH
X-PUBLISHED-TTL:P3D
REFRESH-INTERVAL:P3D
CALSCALE:GREGORIAN
BEGIN:VEVENT
DTSTART:20121015T150000Z
DTEND:20121015T161500Z
X-MICROSOFT-CDO-ALLDAYEVENT:FALSE
SUMMARY:Sunday Worship Service - Journey Church Grand Opening Celebration!
DESCRIPTION:There's a NEW church in Elmhurst!\n\n\n\nYou are invited to join us for our Grand Opening Celebration on Sunday\, October 14th @ 10AM!\n\n\n\nJOURNEY CHURCH is a non-denominational Christian Church. Sunday Worship Services will offer a comfortable\, engaging experience\, with a live worship band\, relevant teaching from the Bible\, and creative media\, all designed to help people connect with God.\n\n\n\nExciting programs for children and teens will also be available on Sundays!\n\n\n\nDress is casual. Coffee is hot. People are real.\n\n\n\nMeeting at the Waterford Conference Center | Sundays at 10AM\n\n933 South Riverside Drive Elmhurst | opposite from the Wal-Mart on Hwy 83\n\n\n\nVisit us online: www.JourneyChurchElmhurst.com\n\nChurch Office: 630-200-1410
X-ALT-DESC;FMTTYPE=text/html:<strong><em>There&#39\;s a NEW church in Elmhurst!</em></strong><br />\n<br />\n<strong>You are invited to join us for our Grand Opening Celebration on Sunday\, October 14th @ 10AM!</strong><br />\n<br />\n<strong>JOURNEY CHURCH</strong> is a non-denominational Christian Church. Sunday Worship Services will offer a comfortable\, engaging experience\, with a live worship band\, relevant teaching from the Bible\, and creative media\, all designed to help people connect with God.<br />\n<br />\nExciting programs for children and teens will also be available on Sundays!<br />\n<br />\n<strong>Dress is casual. Coffee is hot. People are real.</strong><br />\n<br />\nMeeting at the Waterford Conference Center | Sundays at 10AM<br />\n933 South Riverside Drive Elmhurst | opposite from the Wal-Mart on Hwy 83<br />\n<br />\n<strong>Visit us online: www.JourneyChurchElmhurst.com</strong><br />\nChurch Office: 630-200-1410<br />\n&nbsp\;
LOCATION:933 South Riverside Drive Elmhurst\, IL 60126
UID:e.333.5086
SEQUENCE:3
DTSTAMP:20260424T162859Z
URL:https://chambermaster.elmhurstchamber.org/events/details/sunday-worship-service-journey-church-grand-opening-celebration-10-15-2012-5086
END:VEVENT

END:VCALENDAR
