BEGIN:VCALENDAR
VERSION:2.0
PRODID:-//ChamberMaster//Event Calendar 2.0//EN
METHOD:PUBLISH
X-PUBLISHED-TTL:P3D
REFRESH-INTERVAL:P3D
CALSCALE:GREGORIAN
BEGIN:VEVENT
DTSTART:20120322T000000Z
DTEND:20120322T013000Z
X-MICROSOFT-CDO-ALLDAYEVENT:FALSE
SUMMARY:Super Couponing Seminar
DESCRIPTION:Join Jill Cataldo at a workshop to learn how to maximize your grocery savings and purchase hundreds of dollars worth of groceries for just pennies!
X-ALT-DESC;FMTTYPE=text/html:<p>\n	<font color="#650032" size="7"><font color="#650032" size="7">Join </font></font><b><font face="Arial\,Arial" size="7"><font face="Arial\,Arial" size="7"><font color="#000000">Jill Cataldo </font></font></font></b><font color="#650032" size="7"><font color="#650032" size="7">at a workshop to learn how to maximize your grocery savings and purchase hundreds of dollars worth of groceries for just pennies! </font></font></p>\n
LOCATION:West Suburban Community Church
UID:e.333.4802
SEQUENCE:3
DTSTAMP:20260425T035353Z
URL:https://chambermaster.elmhurstchamber.org/events/details/super-couponing-seminar-03-21-2012-4802
END:VEVENT

END:VCALENDAR
