BEGIN:VCALENDAR
VERSION:2.0
PRODID:-//ChamberMaster//Event Calendar 2.0//EN
METHOD:PUBLISH
X-PUBLISHED-TTL:P3D
REFRESH-INTERVAL:P3D
CALSCALE:GREGORIAN
BEGIN:VEVENT
DTSTART;VALUE=DATE:20120511
DTEND;VALUE=DATE:20121001
TRANSP:TRANSPARENT
X-MICROSOFT-CDO-ALLDAYEVENT:TRUE
SUMMARY:Sweet Home Chicago: The History of America's Candy Capital
DESCRIPTION:The Elmhurst Historical Museum will be featuring a "Sweet Home Chicago" exhibit about the history of America's candy capital.
X-ALT-DESC;FMTTYPE=text/html:The Elmhurst Historical Museum will be featuring a &quot\;Sweet Home Chicago&quot\; exhibit about the history of America&#39\;s candy capital.
LOCATION:Elmhurst Historical Museum 120 East Park Avenue Elmhurst\, IL 60126
UID:e.333.4848
SEQUENCE:3
DTSTAMP:20260424T194210Z
URL:https://chambermaster.elmhurstchamber.org/events/details/sweet-home-chicago-the-history-of-america-s-candy-capital-05-11-2012-4848
END:VEVENT

END:VCALENDAR
