BEGIN:VCALENDAR
VERSION:2.0
PRODID:-//ChamberMaster//Event Calendar 2.0//EN
METHOD:PUBLISH
X-PUBLISHED-TTL:P3D
REFRESH-INTERVAL:P3D
CALSCALE:GREGORIAN
BEGIN:VEVENT
DTSTART;VALUE=DATE:20130610
DTEND;VALUE=DATE:20130802
TRANSP:TRANSPARENT
X-MICROSOFT-CDO-ALLDAYEVENT:TRUE
SUMMARY:Swimming Lessons
DESCRIPTION:Swimming lessons start June 10.  Please visit our website or call (630) 993-4723 for dates\, times\, and age groups for lessons.
X-ALT-DESC;FMTTYPE=text/html:Swimming lessons start June 10.&nbsp\;&nbsp\;Please visit our&nbsp\;website&nbsp\;or call (630) 993-4723 for dates\, times\,&nbsp\;and age groups for lessons.&nbsp\; 
LOCATION:East End and Norman P. Smalley Pools
UID:e.333.5199
SEQUENCE:3
DTSTAMP:20260422T133212Z
URL:https://chambermaster.elmhurstchamber.org/events/details/swimming-lessons-06-10-2013-5199
END:VEVENT

END:VCALENDAR
