BEGIN:VCALENDAR
VERSION:2.0
PRODID:-//ChamberMaster//Event Calendar 2.0//EN
METHOD:PUBLISH
X-PUBLISHED-TTL:P3D
REFRESH-INTERVAL:P3D
CALSCALE:GREGORIAN
BEGIN:VEVENT
DTSTART:20120810T000000Z
DTEND:20120810T010000Z
X-MICROSOFT-CDO-ALLDAYEVENT:FALSE
SUMMARY:TACKLING CONCUSSIONS - A free webinar for parents and coaches
DESCRIPTION:TACKLING CONCUSSIONS\n\n	A free webinar for parents and coaches\n\n\n\n	REGISTER NOW! to reserve your spot:\n\n	https://www1.gotomeeting.com/register/975294288\n\n\n\n\nAs ongoing research shows the impact concussions have on the young\, developing brain\, parents and coaches of contact sport athletes continue to ask:\n\n\n	\n		How many concussions are too many?\n	\n		Will concussions cause my child memory problems or dementia down the road?\n	\n		How do I know if it is time to get him/her out of the game?\n\n\n\nThese experts will address the latest in concussion research\, prevention and answer questions during a free online webinar.\n\n\n	\n		Dr. Jeff Mjaanes\n		\n			\n				Chicago Sports Concussion Clinic at Rush\n			\n				Sports Medicine Physician at Midwest Orthopaedics at Rush\n		\n	\n	\n		Mike Overturf\n		\n			\n				Illinois Athletic Trainers Association\n		\n	\n	\n		Jim Osborne\n		\n			\n				Positive Coaching Alliance\n		\n	\n\n\n\nSponsored by:\n\n\n	\n		Positive Coaching Alliance\n	\n		Illinois Athletic Trainers Association (IATA)\n	\n		Stop Sports Injuries\n	\n		Midwest Orthopaedics at Rush\n\n\n\nSOCIAL MEDIA Sites:\n\n	\n		Facebook: http://www.facebook.com/MidwestOrthopaedicsatRush\n	\n		Twitter: https://twitter.com/MOR_Docs\n	\n		LinkedIn: https://www.linkedin.com/company/midwest-orthopaedics-at-rush\n	\n		YouTube: https://www.youtube.com/user/MidwestOrthoatRush
X-ALT-DESC;FMTTYPE=text/html:<p style="text-align: center">\n	<span style="font-size: 14px"><span style="font-family: arial"><span style="font-size: 22px"><span style="font-size: 26px"><span style="color: rgb(0\,0\,255)"><strong>TACKLING CONCUSSIONS</strong></span></span><br />\n	<span style="font-size: 20px">A free webinar for parents and coaches</span></span></span></span></p>\n<br />\n<p style="text-align: center">\n	<span style="font-size: 14px"><span style="font-family: arial"><span style="font-size: 20px"><strong>REGISTER NOW!</strong></span> to reserve your spot:<br />\n	<span style="font-size: 18px"><strong><span style="color: rgb(0\,0\,255)">https://www1.gotomeeting.com/register/975294288</span></strong></span></span></span></p>\n<br />\n<br />\n<span style="font-size: 14px"><span style="font-family: arial">As ongoing research shows the impact concussions have on the young\, developing brain\, parents and coaches of contact sport athletes continue to ask:</span></span><br />\n<ul>\n	<li>\n		<span style="font-size: 14px"><span style="font-family: arial">How many concussions are too many?</span></span></li>\n	<li>\n		<span style="font-size: 14px"><span style="font-family: arial">Will concussions cause my child memory problems or dementia down the road?</span></span></li>\n	<li>\n		<span style="font-size: 14px"><span style="font-family: arial">How do I know if it is time to get him/her out of the game?</span></span></li>\n</ul>\n<br />\n<span style="font-size: 14px"><span style="font-family: arial">These experts will address the latest in concussion research\, prevention and&nbsp\;answer questions during a free online webinar.</span></span><br />\n<ul>\n	<li>\n		<span style="font-size: 14px"><span style="font-family: arial"><strong>Dr. Jeff Mjaanes</strong></span></span>\n		<ul>\n			<li>\n				<span style="font-size: 14px"><span style="font-family: arial">Chicago Sports Concussion Clinic at Rush</span></span></li>\n			<li>\n				<span style="font-size: 14px"><span style="font-family: arial">Sports Medicine Physician at Midwest Orthopaedics at Rush</span></span></li>\n		</ul>\n	</li>\n	<li>\n		<span style="font-size: 14px"><span style="font-family: arial"><strong>Mike Overturf</strong></span></span>\n		<ul>\n			<li>\n				<span style="font-size: 14px"><span style="font-family: arial">Illinois Athletic Trainers Association</span></span></li>\n		</ul>\n	</li>\n	<li>\n		<span style="font-size: 14px"><span style="font-family: arial"><strong>Jim Osborne</strong></span></span>\n		<ul>\n			<li>\n				<span style="font-size: 14px"><span style="font-family: arial">Positive Coaching Alliance</span></span></li>\n		</ul>\n	</li>\n</ul>\n<br />\n<span style="font-size: 14px"><span style="font-family: arial"><strong><span style="color: #0000ff"><u>Sponsored by</u></span></strong>:</span></span><br />\n<ul>\n	<li>\n		<span style="font-size: 14px"><span style="font-family: arial">Positive Coaching Alliance</span></span></li>\n	<li>\n		<span style="font-size: 14px"><span style="font-family: arial">Illinois Athletic Trainers Association (IATA)</span></span></li>\n	<li>\n		<span style="font-size: 14px"><span style="font-family: arial">Stop Sports Injuries</span></span></li>\n	<li>\n		<span style="font-size: 14px"><span style="font-family: arial"><strong>Midwest Orthopaedics at Rush</strong></span></span></li>\n</ul>\n<br />\n<span style="font-size: 14px"><span style="font-family: arial"><strong><span style="color: #0000ff"><u>SOCIAL MEDIA Sites</u></span></strong>:</span></span>\n<ul>\n	<li>\n		<span style="font-size: 14px"><span style="font-family: arial"><strong>Facebook</strong>: http://www.facebook.com/MidwestOrthopaedicsatRush</span></span></li>\n	<li>\n		<span style="font-size: 14px"><span style="font-family: arial"><strong>Twitter</strong>: https://twitter.com/MOR_Docs</span></span></li>\n	<li>\n		<span style="font-size: 14px"><span style="font-family: arial"><strong>LinkedIn</strong>: https://www.linkedin.com/company/midwest-orthopaedics-at-rush</span></span></li>\n	<li>\n		<span style="font-size: 14px"><span style="font-family: arial"><strong>YouTube</strong>: https://www.youtube.com/user/MidwestOrthoatRush</span></span></li>\n</ul>\n
LOCATION:Webinar
UID:e.333.4923
SEQUENCE:3
DTSTAMP:20260424T193954Z
URL:https://chambermaster.elmhurstchamber.org/events/details/tackling-concussions-a-free-webinar-for-parents-and-coaches-08-09-2012-4923
END:VEVENT

END:VCALENDAR
