BEGIN:VCALENDAR
VERSION:2.0
PRODID:-//ChamberMaster//Event Calendar 2.0//EN
METHOD:PUBLISH
X-PUBLISHED-TTL:P3D
REFRESH-INTERVAL:P3D
CALSCALE:GREGORIAN
BEGIN:VEVENT
DTSTART:20130915T140000Z
DTEND:20130915T180000Z
X-MICROSOFT-CDO-ALLDAYEVENT:FALSE
SUMMARY:Talkie Trot 5 K Run/Walk
DESCRIPTION:Inaugural Talkie Trot 5K Run/Walk (formerly the Brianna & Friends Walk to Talk)\, September 15\, 2013\, starting at 9 a.m. sharp benefiting the Center for Speech and Language Disorders.  Please help us meet the challenges faced by special needs children by raising critically needed funds to support our mission to enable children with communication disorders to reach their full potential.\n\n	 \n\n	In addition to the 5KRun/Walk and 1 mile Kids' Dash (grade K- 8)  there will be the Jesse White Tumblers\, a Moon Walk\, Thomas the Train\, goodie bags\, After the Event Party at HB Jones and more! \n\n	1st 500 runners to register will receive a " Tech-Tee".
X-ALT-DESC;FMTTYPE=text/html:<br />\n<div style="font-family: 'times new roman'\, 'new york'\, times\, serif\; font-size: 16px\;">\n	Inaugural Talkie Trot 5K Run/Walk (formerly the Brianna &amp\; Friends Walk to Talk)\, September 15\, 2013\, starting at 9 a.m. sharp benefiting the Center for Speech and Language Disorders.&nbsp\; Please help us meet the challenges faced by special needs children by raising critically needed funds to support our mission to enable children with communication disorders to reach their full potential.</div>\n<div style="font-family: 'times new roman'\, 'new york'\, times\, serif\; font-size: 16px\;">\n	&nbsp\;</div>\n<div style="font-family: 'times new roman'\, 'new york'\, times\, serif\; font-size: 16px\;">\n	In addition to the 5KRun/Walk and 1 mile Kids&#39\; Dash (grade K- 8)&nbsp\; there will be the Jesse White Tumblers\, a Moon Walk\, Thomas the Train\, goodie bags\, After the Event Party at HB Jones and more!&nbsp\;<br />\n	1st 500 runners to register will receive a &quot\; Tech-Tee&quot\;.<br />\n	&nbsp\;</div>\n
LOCATION:York & South St.\,Elmhurst (Prairie Path & York Rd.)
UID:e.333.5586
SEQUENCE:3
DTSTAMP:20260422T113150Z
URL:https://chambermaster.elmhurstchamber.org/events/details/talkie-trot-5-k-run-walk-09-15-2013-5586
END:VEVENT

END:VCALENDAR
