BEGIN:VCALENDAR
VERSION:2.0
PRODID:-//ChamberMaster//Event Calendar 2.0//EN
METHOD:PUBLISH
X-PUBLISHED-TTL:P3D
REFRESH-INTERVAL:P3D
CALSCALE:GREGORIAN
BEGIN:VEVENT
DTSTART:20110713T223000Z
DTEND:20110713T233000Z
X-MICROSOFT-CDO-ALLDAYEVENT:FALSE
SUMMARY:Target Market Advertising and More!
DESCRIPTION:As part of our Professional Speaker Seminar Series\, Elmhurst Chamber of Commerce members will be presenting a one-hour seminar on their products/services. Jen Whitnet from Chicago Tribune's TribLocal will be our featured speaker during this time.\n\n\n\nThey will be speaking about how advertising has changed in recent years and the need for more digital solutions\, as well as keeping a a sense of community with our products and local targeting.\n\n\n\nAttendance will be free to Chamber members and special guests.
X-ALT-DESC;FMTTYPE=text/html:As part of our Professional Speaker Seminar Series\, Elmhurst Chamber of Commerce members will be presenting a one-hour seminar on their products/services.&nbsp\;Jen Whitnet from Chicago Tribune&#39\;s TribLocal will be our featured speaker during this time.<br />\n<br />\nThey will be speaking about how advertising has changed in recent years and the need for more digital solutions\, as well as keeping a a sense of community with our products and local targeting.<br />\n<br />\nAttendance will be free to Chamber members and special guests.&nbsp\; 
LOCATION:Elmhurst Chamber of Commerce & Industry Community Bank of Elmhurst Board Room 242 N York St.\, Ste 102 Elmhurst\, IL 60126
UID:e.333.4240
SEQUENCE:3
DTSTAMP:20260425T161601Z
URL:https://chambermaster.elmhurstchamber.org/events/details/target-market-advertising-and-more-07-13-2011-4240
END:VEVENT

END:VCALENDAR
