BEGIN:VCALENDAR
VERSION:2.0
PRODID:-//ChamberMaster//Event Calendar 2.0//EN
METHOD:PUBLISH
X-PUBLISHED-TTL:P3D
REFRESH-INTERVAL:P3D
CALSCALE:GREGORIAN
BEGIN:VEVENT
DTSTART:20101118T190000Z
DTEND:20101118T210000Z
X-MICROSOFT-CDO-ALLDAYEVENT:FALSE
SUMMARY:Tea Time Talk: 100 Years as a City
DESCRIPTION:Elmhurst City Manager Tom Borchert will explore how Elmhurst has evolved as a city over the last 100 years\, and the differences between the city and village forms of government. Mr. Borchert will discuss some of the challenges and interesting stories that have occurred during his career in municipal government. Adult program with refreshments served immediately following in the Glos Mansion's lower level.
X-ALT-DESC;FMTTYPE=text/html:Elmhurst City Manager Tom Borchert will explore how Elmhurst has evolved as a city over the last 100 years\, and the differences between the city and village forms of government. Mr. Borchert will discuss some of the challenges and interesting stories that have occurred during his career in municipal government. Adult program with refreshments served immediately following in the Glos Mansion&#39\;s lower level. 
LOCATION:Elmhurst Historical Museum Education Center\, 120 E. Park Ave. Elmhurst\, Il 60126
UID:e.333.3477
SEQUENCE:3
DTSTAMP:20260426T042843Z
URL:https://chambermaster.elmhurstchamber.org/events/details/tea-time-talk-100-years-as-a-city-11-18-2010-3477
END:VEVENT

END:VCALENDAR
