BEGIN:VCALENDAR
VERSION:2.0
PRODID:-//ChamberMaster//Event Calendar 2.0//EN
METHOD:PUBLISH
X-PUBLISHED-TTL:P3D
REFRESH-INTERVAL:P3D
CALSCALE:GREGORIAN
BEGIN:VEVENT
DTSTART:20110317T180000Z
DTEND:20110317T190000Z
X-MICROSOFT-CDO-ALLDAYEVENT:FALSE
SUMMARY:Tea Time Talk: Susan B. Anthony\, Women & the Vote
DESCRIPTION:Commemorate Women's History Month with first-person presenter Lynn Rymarz who brings the story of suffragist and human rights advocate Susan B. Anthony to life. The program examines Anthony's lifelong fight for women's voting rights and more. Refreshments served immediately following in the Glos Mansion. Free admission\, donations appreciated.
X-ALT-DESC;FMTTYPE=text/html:Commemorate Women&#39\;s History Month with first-person presenter Lynn Rymarz who brings the story of suffragist and human rights advocate Susan B. Anthony to life. The program examines Anthony&#39\;s lifelong fight for women&#39\;s voting rights and more. Refreshments served immediately following in the Glos Mansion. Free admission\, donations appreciated. 
LOCATION:Elmhurst Historical Museum Education Center 120 E. Park Ave.\, Elmhurst
UID:e.333.4098
SEQUENCE:3
DTSTAMP:20260425T222415Z
URL:https://chambermaster.elmhurstchamber.org/events/details/tea-time-talk-susan-b-anthony-women-the-vote-03-17-2011-4098
END:VEVENT

END:VCALENDAR
