BEGIN:VCALENDAR
VERSION:2.0
PRODID:-//ChamberMaster//Event Calendar 2.0//EN
METHOD:PUBLISH
X-PUBLISHED-TTL:P3D
REFRESH-INTERVAL:P3D
CALSCALE:GREGORIAN
BEGIN:VEVENT
DTSTART:20120616T200000Z
DTEND:20120617T020000Z
X-MICROSOFT-CDO-ALLDAYEVENT:FALSE
SUMMARY:Teen Battle of the Bands
DESCRIPTION:Want to hear some local rock star talent? Come to the Teen Battle of the Bands in downtown Elmhurst on June 16 from 3-9 p.m. in the Addison Parking Lot. The winning band will compete in the regional Battle of the Bands competition with the potential to advance to the state finals in August at the Illinois State Fair.
X-ALT-DESC;FMTTYPE=text/html:<p>\n	<span style="font-size: 11pt"><font color="#000000">Want to hear some local rock star talent? Come to the Teen Battle of the Bands in downtown Elmhurst on June 16 from 3-9 p.m. in the Addison Parking Lot. The winning band will compete in the regional Battle of the Bands competition with the potential to advance to the state finals in August at the Illinois State Fair. <o:p></o:p></font></span></p>\n
LOCATION:Addison Parking Lot
UID:e.333.4856
SEQUENCE:3
DTSTAMP:20260424T230256Z
URL:https://chambermaster.elmhurstchamber.org/events/details/teen-battle-of-the-bands-06-16-2012-4856
END:VEVENT

END:VCALENDAR
