BEGIN:VCALENDAR
VERSION:2.0
PRODID:-//ChamberMaster//Event Calendar 2.0//EN
METHOD:PUBLISH
X-PUBLISHED-TTL:P3D
REFRESH-INTERVAL:P3D
CALSCALE:GREGORIAN
BEGIN:VEVENT
DTSTART:20130510T230000Z
DTEND:20130511T000000Z
X-MICROSOFT-CDO-ALLDAYEVENT:FALSE
SUMMARY:Teen Dailey Night
DESCRIPTION:Calling all teens ages 13-18!  Join us for a very special Teen Dailey Class from 6:00-7:00 p.m.!  Cost is $14 per student.  Our theme is being present and having FUN!  Each student that attends will be entered for a chance to win tasty raffle prizes from our local friends at Meatheads and Jamba Juice in Elmhurst.  In addition to raffle prizes\, every student will be eligible to redeem special discounts at each of these participating locations that evening following class.  Join us for a FUN Friday night.  Register on-line!
X-ALT-DESC;FMTTYPE=text/html:Calling all teens ages 13-18!&nbsp\; Join us for a very special Teen Dailey Class from 6:00-7:00 p.m.!&nbsp\; Cost is $14 per student.&nbsp\; Our theme is being present and having FUN!&nbsp\; Each student that attends will be entered for a chance to win tasty raffle prizes from our local friends at Meatheads and Jamba Juice in Elmhurst.&nbsp\; In addition to raffle prizes\, every student will be eligible to redeem special discounts at each of these participating locations that evening following class.&nbsp\; Join us for a FUN Friday night.&nbsp\; Register on-line!
LOCATION:The Dailey Method 155 N. York St. Elmhurst
UID:e.333.5291
SEQUENCE:3
DTSTAMP:20260422T180603Z
URL:https://chambermaster.elmhurstchamber.org/events/details/teen-dailey-night-05-10-2013-5291
END:VEVENT

END:VCALENDAR
