BEGIN:VCALENDAR
VERSION:2.0
PRODID:-//ChamberMaster//Event Calendar 2.0//EN
METHOD:PUBLISH
X-PUBLISHED-TTL:P3D
REFRESH-INTERVAL:P3D
CALSCALE:GREGORIAN
BEGIN:VEVENT
DTSTART:20130323T010000Z
DTEND:20130323T020000Z
X-MICROSOFT-CDO-ALLDAYEVENT:FALSE
SUMMARY:Teen Flashlight Egg Hunt
DESCRIPTION:Ages 11-17.\n\nGrab your flashlight and hunt for prize-filled eggs in Wilder Park under the stars!  Eggs will be filled with candy\, gift certificates\, money and other cool prizes.  Please bring a flashlight and a bag or basket to put your eggs and prizes in.
X-ALT-DESC;FMTTYPE=text/html:Ages 11-17.<br />\nGrab your flashlight and hunt for prize-filled eggs in Wilder Park under the stars!&nbsp\; Eggs will be filled with candy\, gift certificates\, money and other cool prizes.&nbsp\; Please bring a flashlight and a bag or basket to put your eggs and prizes in.&nbsp\; 
LOCATION:Wilder Park
UID:e.333.5198
SEQUENCE:3
DTSTAMP:20260424T084844Z
URL:https://chambermaster.elmhurstchamber.org/events/details/teen-flashlight-egg-hunt-03-22-2013-5198
END:VEVENT

END:VCALENDAR
