BEGIN:VCALENDAR
VERSION:2.0
PRODID:-//ChamberMaster//Event Calendar 2.0//EN
METHOD:PUBLISH
X-PUBLISHED-TTL:P3D
REFRESH-INTERVAL:P3D
CALSCALE:GREGORIAN
BEGIN:VEVENT
DTSTART:20120909T190000Z
DTEND:20120909T190000Z
X-MICROSOFT-CDO-ALLDAYEVENT:FALSE
SUMMARY:Teen Volunteer Network - TVN
DESCRIPTION:Do you like to volunteer? Do you need more service hours? Come join us at the Elmhurst Park District Library on Sunday\, September 9th for pizza\, pop and brainstorming about volunteering. Our goal will be to pick a few "causes" to help out and volunteer with through the Fall and Winter. Everyone is welcome\, no pre-registration is required.\n\n	\n\n	Ages 11-14.
X-ALT-DESC;FMTTYPE=text/html:<p class="MsoNormal" style="margin: 0in 0in 0pt">\n	<span style="line-height: 115%\; font-family: 'cambria'\, 'serif'\; font-size: 12pt\; mso-ascii-theme-font: major-latin\; mso-hansi-theme-font: major-latin"><font color="#000000">Do you like to volunteer? Do you need more service hours? Come join us at the Elmhurst Park District Library on Sunday\, September 9<sup>th</sup> for pizza\, pop and brainstorming about volunteering. Our goal will be to pick a few &ldquo\;causes&rdquo\; to help out and volunteer with through the Fall and Winter. Everyone is welcome\, no pre-registration is required.<br />\n	<br />\n	Ages 11-14.</font></span><br />\n	<br />\n	&nbsp\;</p>\n
LOCATION:Elmhurst Public Library 125 S. Prospect
UID:e.333.4912
SEQUENCE:3
DTSTAMP:20260424T180003Z
URL:https://chambermaster.elmhurstchamber.org/events/details/teen-volunteer-network-tvn-09-09-2012-4912
END:VEVENT

END:VCALENDAR
