BEGIN:VCALENDAR
VERSION:2.0
PRODID:-//ChamberMaster//Event Calendar 2.0//EN
METHOD:PUBLISH
X-PUBLISHED-TTL:P3D
REFRESH-INTERVAL:P3D
CALSCALE:GREGORIAN
BEGIN:VEVENT
DTSTART;VALUE=DATE:20130318
DTEND;VALUE=DATE:20130526
TRANSP:TRANSPARENT
X-MICROSOFT-CDO-ALLDAYEVENT:TRUE
SUMMARY:Tennis Lessons Ages 4 and Up
DESCRIPTION:Tennis lessons for ages 4 and up start March 18.  Please refer to the Elmhurst Park District website for dates\, times and age groups.
X-ALT-DESC;FMTTYPE=text/html:Tennis lessons for ages 4 and up start March 18.&nbsp\; Please&nbsp\;refer to&nbsp\;the Elmhurst Park District&nbsp\;website for dates\, times and age groups.&nbsp\; 
LOCATION:Courts Plus
UID:e.333.5213
SEQUENCE:3
DTSTAMP:20260422T180730Z
URL:https://chambermaster.elmhurstchamber.org/events/details/tennis-lessons-ages-4-and-up-03-18-2013-5213
END:VEVENT

END:VCALENDAR
