BEGIN:VCALENDAR
VERSION:2.0
PRODID:-//ChamberMaster//Event Calendar 2.0//EN
METHOD:PUBLISH
X-PUBLISHED-TTL:P3D
REFRESH-INTERVAL:P3D
CALSCALE:GREGORIAN
BEGIN:VEVENT
DTSTART:20110526T153000Z
DTEND:20110526T230000Z
X-MICROSOFT-CDO-ALLDAYEVENT:FALSE
SUMMARY:The 12th Annual YMCA Cubs Outing
DESCRIPTION:Join us to cheer on the Cubs as they take on the New York Mets.  All attendees will receive a lunch\, drinks on the bus\, raffle tickets\, bus ride to and from the game\, and a terrace-reserved ticket.  All proceeds go to the YMCA scholarship fund!\n\n	\n\n	Contact Suzanne Wolf at 630-929-2461 for more info!
X-ALT-DESC;FMTTYPE=text/html:<p>\n	Join us to cheer on the Cubs as they take on the New York Mets.&nbsp\; All attendees will receive a lunch\, drinks on the bus\, raffle tickets\, bus ride to and from the game\, and a terrace-reserved ticket.&nbsp\; All proceeds go to the YMCA scholarship fund!<br />\n	<br />\n	Contact Suzanne Wolf at 630-929-2461 for more info!</p>\n
LOCATION:Bus leaves the Elmhurst YMCA for Wrigley Field at 10:30 am.
UID:e.333.4222
SEQUENCE:3
DTSTAMP:20260425T191328Z
URL:https://chambermaster.elmhurstchamber.org/events/details/the-12th-annual-ymca-cubs-outing-05-26-2011-4222
END:VEVENT

END:VCALENDAR
