BEGIN:VCALENDAR
VERSION:2.0
PRODID:-//ChamberMaster//Event Calendar 2.0//EN
METHOD:PUBLISH
X-PUBLISHED-TTL:P3D
REFRESH-INTERVAL:P3D
CALSCALE:GREGORIAN
BEGIN:VEVENT
DTSTART:20120702T050000Z
DTEND:20120702T070000Z
X-MICROSOFT-CDO-ALLDAYEVENT:FALSE
SUMMARY:The Amazing Spiderman at York Theatre
DESCRIPTION:Spider-Man fans get excited because York Theatre/ Classic Cinemas is hosting a premiere of "The Amazing Spider-Man" on Monday\, July 2 at midnight (July 3 at 12:01 am) \n\n\n\nAdvanced tickets are now on sale for the 2D and 3D midnight shows\, which opens at 12:01 a.m. on Tuesday\, July 3.
X-ALT-DESC;FMTTYPE=text/html:Spider-Man fans get excited because&nbsp\;York Theatre/ Classic Cinemas is&nbsp\;hosting a premiere of &quot\;The Amazing&nbsp\;Spider-Man&quot\; on Monday\,&nbsp\;July&nbsp\;2 at&nbsp\;midnight&nbsp\;(July&nbsp\;3 at&nbsp\;12:01 am)&nbsp\;<br />\n<br />\nAdvanced tickets are now on&nbsp\;sale for the 2D and 3D&nbsp\;midnight shows\, which opens&nbsp\;at 12:01 a.m. on&nbsp\;Tuesday\, July 3.&nbsp\;&nbsp\;
LOCATION:York Theatre 150 North York St. Elmhurst
UID:e.333.4897
SEQUENCE:3
DTSTAMP:20260424T212516Z
URL:https://chambermaster.elmhurstchamber.org/events/details/the-amazing-spiderman-at-york-theatre-07-02-2012-4897
END:VEVENT

END:VCALENDAR
