BEGIN:VCALENDAR
VERSION:2.0
PRODID:-//ChamberMaster//Event Calendar 2.0//EN
METHOD:PUBLISH
X-PUBLISHED-TTL:P3D
REFRESH-INTERVAL:P3D
CALSCALE:GREGORIAN
BEGIN:VEVENT
DTSTART;VALUE=DATE:20130501
DTEND;VALUE=DATE:20130502
TRANSP:TRANSPARENT
X-MICROSOFT-CDO-ALLDAYEVENT:TRUE
SUMMARY:The Choral-Aires Chorus Buffalo Wild Wing Fundraiser
DESCRIPTION:The Choral-Aires Chorus\, has qualified to compete with 31 other choruses from around the world in the upcoming Sweet Adelines International competition in Honolulu\, Hawaii in November.  In an effort to help with expenses for our 90 or so competing members\, we will be having a fundraiser at the Elmhurst Buffalo Wild Wings (149 No. York) on Wednesday\, May 1.  15% of all purchases from that day (if you present the coupon attached) will go to the Choral-Aires Chorus for our Hawaii Fund!  \n\n\n\nFlyer is Below! \n\n\n	http://www.choral-aires.com/docs/BWWMay1.pdf
X-ALT-DESC;FMTTYPE=text/html:The Choral-Aires Chorus\, has qualified to compete with 31 other choruses from around the world&nbsp\;in the upcoming&nbsp\;Sweet Adelines International competition in Honolulu\, Hawaii in November.&nbsp\; In an effort to help with expenses for our 90 or so competing members\, we will be&nbsp\;having a fundraiser at the&nbsp\;<span class="yshortcuts" id="lw_1367258627_0">Elmhurst Buffalo Wild Wings</span> (149 No. York) <span class="yshortcuts" id="lw_1367258627_1" style="RIGHT: auto">on Wednesday\, May 1</span>.&nbsp\; 15% of all purchases&nbsp\;from that day (if you present the coupon attached) will go to the Choral-Aires Chorus for our Hawaii Fund! &nbsp\;<br />\n<br />\nFlyer is Below!&nbsp\;<br />\n<div id="yiv720390525yui_3_7_2_18_1367112901504_55" style="RIGHT: auto">\n	<a href="http://www.choral-aires.com/docs/BWWMay1.pdf" style="RIGHT: auto" target="_blank"><span class="yshortcuts" id="lw_1367258627_3" style="RIGHT: auto"><font color="#2862c5" style="RIGHT: auto">http://www.choral-aires.com/docs/BWWMay1.pdf</font></span></a></div>\n
LOCATION:Elmhurst Buffalo Wild Wings 149 N. York
UID:e.333.5290
SEQUENCE:3
DTSTAMP:20260422T180843Z
URL:https://chambermaster.elmhurstchamber.org/events/details/the-choral-aires-chorus-buffalo-wild-wing-fundraiser-05-01-2013-5290
END:VEVENT

END:VCALENDAR
