BEGIN:VCALENDAR
VERSION:2.0
PRODID:-//ChamberMaster//Event Calendar 2.0//EN
METHOD:PUBLISH
X-PUBLISHED-TTL:P3D
REFRESH-INTERVAL:P3D
CALSCALE:GREGORIAN
BEGIN:VEVENT
DTSTART:20121111T210000Z
DTEND:20121112T000000Z
X-MICROSOFT-CDO-ALLDAYEVENT:FALSE
SUMMARY:The Elmhurst Symphony Orchestra Presents "Heroic Beethoven"
DESCRIPTION:The Elmhurst Symphony Orchestra\, under the baton of Music Director Stephen Alltop\, presents the second concert of the 2012-13 season when Chicago Symphony Orchestra trumpet star John Hagstrom and Stanger Young Artist Audition winner Susie Lee perform in "Heroic Beethoven" at 3:00 pm on Sunday\, November 11\, 2012\, at Elmhurst Christian Reformed Church\, 149 Brush Hill Rd. in Elmhurst.
X-ALT-DESC;FMTTYPE=text/html:<span style="color: black">The Elmhurst Symphony Orchestra\, under the baton of Music Director Stephen Alltop\, presents the second concert of the 2012-13 season when Chicago Symphony Orchestra trumpet star John Hagstrom and Stanger Young Artist Audition winner Susie Lee perform in &quot\;Heroic Beethoven&rdquo\;&nbsp\;</span><span style="color: black">at </span><ns0:time ns1:hour="15" ns1:minute="00"><span style="color: black">3:00 pm</span></ns0:time><span style="color: black"> on Sunday\, </span><ns0:date ns1:day="11" ns1:ls="trans" ns1:month="11" ns1:year="2012"><span style="color: black">November 11\, 2012</span></ns0:date><span style="color: black">\, at Elmhurst Christian Reformed Church\, 149 Brush Hill Rd. in Elmhurst.<o:p></o:p></span>
LOCATION:Elmhurst Christian Reformed Church 149 Brush Hill Rd. Elmhurst\, IL 60126
UID:e.333.5098
SEQUENCE:3
DTSTAMP:20260424T145538Z
URL:https://chambermaster.elmhurstchamber.org/events/details/the-elmhurst-symphony-orchestra-presents-heroic-beethoven-11-11-2012-5098
END:VEVENT

END:VCALENDAR
