BEGIN:VCALENDAR
VERSION:2.0
PRODID:-//ChamberMaster//Event Calendar 2.0//EN
METHOD:PUBLISH
X-PUBLISHED-TTL:P3D
REFRESH-INTERVAL:P3D
CALSCALE:GREGORIAN
BEGIN:VEVENT
DTSTART:20121111T210000Z
DTEND:20121112T000000Z
X-MICROSOFT-CDO-ALLDAYEVENT:FALSE
SUMMARY:The Elmhurst Symphony Orchestra Presents ?Heroic Beethoven?
DESCRIPTION:Elmhurst Symphony Orchestra presents the second concert of the 2012-2013 season. Orchestra trumpet star John Hagstrom and Stander Young Artist Audition winner Susie Lee perform in "Heroic Beethoven"
X-ALT-DESC;FMTTYPE=text/html:Elmhurst Symphony Orchestra presents the second concert of the 2012-2013 season. Orchestra trumpet star John Hagstrom and Stander Young Artist Audition winner Susie Lee perform in &quot\;Heroic Beethoven&quot\;&nbsp\;
LOCATION:Elmhurst Christian Reformed Church 149 Brush Hill Rd. Elmhurst \, IL 60126
UID:e.333.5099
SEQUENCE:3
DTSTAMP:20260424T145539Z
URL:https://chambermaster.elmhurstchamber.org/events/details/the-elmhurst-symphony-orchestra-presents-heroic-beethoven-11-11-2012-5099
END:VEVENT

END:VCALENDAR
