BEGIN:VCALENDAR
VERSION:2.0
PRODID:-//ChamberMaster//Event Calendar 2.0//EN
METHOD:PUBLISH
X-PUBLISHED-TTL:P3D
REFRESH-INTERVAL:P3D
CALSCALE:GREGORIAN
BEGIN:VEVENT
DTSTART:20110127T010000Z
DTEND:20110127T030000Z
X-MICROSOFT-CDO-ALLDAYEVENT:FALSE
SUMMARY:The Impact of the Illinois Budget Crisis on our Community
DESCRIPTION:The League of Women Voters presents a panel discussion on the direct impact of Illinois' budget crisis on Elmhurst.  Panelists include Chief of Police\, Steve Neubauer\, Library Director Marilyn Boria\, and Kim Zoeller\, Director of the Ray Graham Association.  The League surveyed a variety of governmental\, not for profit\, and private agencies in the area to ascertain the impact the state's budget crisis has on our community.  The survey results and possible solutions to the problem will be addressed.
X-ALT-DESC;FMTTYPE=text/html:The League of Women Voters presents a panel discussion on the direct impact of Illinois' budget crisis on Elmhurst.  Panelists include Chief of Police\, Steve Neubauer\, Library Director Marilyn Boria\, and Kim Zoeller\, Director of the Ray Graham Association.  The League surveyed a variety of governmental\, not for profit\, and private agencies in the area to ascertain the impact the state's budget crisis has on our community.  The survey results and possible solutions to the problem will be addressed.  
LOCATION:Elmhurst Public Library 125 S. Prospect Avenue Elmhurst\, IL 60126
UID:e.333.3700
SEQUENCE:3
DTSTAMP:20260426T030428Z
URL:https://chambermaster.elmhurstchamber.org/events/details/the-impact-of-the-illinois-budget-crisis-on-our-community-01-26-2011-3700
END:VEVENT

END:VCALENDAR
