BEGIN:VCALENDAR
VERSION:2.0
PRODID:-//ChamberMaster//Event Calendar 2.0//EN
METHOD:PUBLISH
X-PUBLISHED-TTL:P3D
REFRESH-INTERVAL:P3D
CALSCALE:GREGORIAN
BEGIN:VEVENT
DTSTART:20121020T213000Z
DTEND:20121021T003000Z
X-MICROSOFT-CDO-ALLDAYEVENT:FALSE
SUMMARY:The Leukemia & Lymphoma Society's Light The Night Walk
DESCRIPTION:Each year\, in communities all across the United States and Canada\, teams of families\, friends\, co-workers and local and national corporations come together to raise funds for The Leukemia & Lymphoma Society's (LLS's) Light The Night Walk events and bring help and hope to people battling blood cancers.\n\n\n\nJoin us to make a difference!  Learn more about our local Light The Night walks in Chicago\, Glenview\, Elmhurst and Rockford at www.lightthenight.org/il
X-ALT-DESC;FMTTYPE=text/html:Each year\, in communities all across the United States and Canada\, teams of families\, friends\, co-workers and local and national corporations come together to raise funds for The Leukemia &amp\; Lymphoma Society&#39\;s (LLS&#39\;s) Light The Night Walk events and bring help and hope to people battling blood cancers.<br />\n<br />\nJoin us to make a difference!&nbsp\; Learn more about&nbsp\;our local Light The Night walks&nbsp\;in Chicago\, Glenview\, Elmhurst and Rockford&nbsp\;at <a href="http://www.lightthenight.org/il">www.lightthenight.org/il</a><br />\n<br />\n
LOCATION:Berens Park (493 Oaklawn Ave\, Elmhurst IL 60126)
UID:e.333.4812
SEQUENCE:3
DTSTAMP:20260424T162832Z
URL:https://chambermaster.elmhurstchamber.org/events/details/the-leukemia-lymphoma-society-s-light-the-night-walk-10-20-2012-4812
END:VEVENT

END:VCALENDAR
