BEGIN:VCALENDAR
VERSION:2.0
PRODID:-//ChamberMaster//Event Calendar 2.0//EN
METHOD:PUBLISH
X-PUBLISHED-TTL:P3D
REFRESH-INTERVAL:P3D
CALSCALE:GREGORIAN
BEGIN:VEVENT
DTSTART:20130322T003000Z
DTEND:20130322T030000Z
X-MICROSOFT-CDO-ALLDAYEVENT:FALSE
SUMMARY:"The Secret Garden" at GreenMan Theatre
DESCRIPTION:GreenMan Theatre is producing an original world premiere adaptation of the classic novel "The Secret Garden" by Frances Hodgson Burnett. Linda Roberts\, a veteran actor-director in the Chicagoland area\, has adapted the book and will direct the production\, which is GreenMan's Showcase production for their ninth season.
X-ALT-DESC;FMTTYPE=text/html:GreenMan Theatre is producing an original world premiere adaptation of the classic novel &quot\;The Secret Garden&quot\; by Frances Hodgson Burnett. Linda Roberts\, a veteran actor-director in the Chicagoland area\, has adapted the book and will direct the production\, which is GreenMan&#39\;s Showcase production for their ninth season.
LOCATION:Asbury Hall at First United Methodist Church at 232 S. York in Elmhurst
UID:e.333.5253
SEQUENCE:3
DTSTAMP:20260424T085404Z
URL:https://chambermaster.elmhurstchamber.org/events/details/the-secret-garden-at-greenman-theatre-03-21-2013-5253
END:VEVENT

END:VCALENDAR
