BEGIN:VCALENDAR
VERSION:2.0
PRODID:-//ChamberMaster//Event Calendar 2.0//EN
METHOD:PUBLISH
X-PUBLISHED-TTL:P3D
REFRESH-INTERVAL:P3D
CALSCALE:GREGORIAN
BEGIN:VEVENT
DTSTART:20130406T190000Z
DTEND:20130406T213000Z
X-MICROSOFT-CDO-ALLDAYEVENT:FALSE
SUMMARY:"The Secret Garden" at GreenMan Theatre
DESCRIPTION:GreenMan Theatre is producing the classic novel The Secret Garden by Frances Hodgson Burnett. Linda Roberts\, a veteran actor-director throughout the Chicagoland area\, has adapted the book and will direct the production\, which serves as GreenMan's Showcase production of their ninth season.
X-ALT-DESC;FMTTYPE=text/html:GreenMan Theatre is producing the classic novel <em><strong>The Secret Garden</strong></em> by Frances Hodgson Burnett. Linda Roberts\, a veteran actor-director throughout the Chicagoland area\, has adapted the book and will direct the production\, which serves as GreenMan&#39\;s Showcase production of their ninth season.
LOCATION:Asbury Hall at First United Methodist Church at 232 S. York in Elmhurst
UID:e.333.5254
SEQUENCE:3
DTSTAMP:20260422T194708Z
URL:https://chambermaster.elmhurstchamber.org/events/details/the-secret-garden-at-greenman-theatre-04-06-2013-5254
END:VEVENT

END:VCALENDAR
