BEGIN:VCALENDAR
VERSION:2.0
PRODID:-//ChamberMaster//Event Calendar 2.0//EN
METHOD:PUBLISH
X-PUBLISHED-TTL:P3D
REFRESH-INTERVAL:P3D
CALSCALE:GREGORIAN
BEGIN:VEVENT
DTSTART:20110716T163000Z
DTEND:20110717T003000Z
X-MICROSOFT-CDO-ALLDAYEVENT:FALSE
SUMMARY:The YMCA 23rd Annual Stone Open
DESCRIPTION:Click here to view the golf outing brochure\n\n\n\nFunds raised will go to provide YMCA programs and services to Elmhurst area residents regardless of their ability to pay. \n\n\n\nElmhurst Chamber of Commerce and Indistry President adn CEO\, John Quigley\, will be honored at this event.
X-ALT-DESC;FMTTYPE=text/html:<a href="http://cloud.chambermaster.com/userfiles/UserFiles/chambers/333/File/2011%20Stone%20Open%20Registration%20Brochure.pdf">Click here </a>to view the golf outing brochure<br />\n<br />\nFunds raised will go to provide YMCA programs and services to Elmhurst area residents regardless of their ability to pay.&nbsp\;<br />\n<br />\nElmhurst Chamber of Commerce and Indistry President adn CEO\, John Quigley\, will be honored at this event.
LOCATION:Maple Medows Golf Course 272 Addison Road Wood Dale\, IL
UID:e.333.4223
SEQUENCE:3
DTSTAMP:20260425T161432Z
URL:https://chambermaster.elmhurstchamber.org/events/details/the-ymca-23rd-annual-stone-open-07-16-2011-4223
END:VEVENT

END:VCALENDAR
