BEGIN:VCALENDAR
VERSION:2.0
PRODID:-//ChamberMaster//Event Calendar 2.0//EN
METHOD:PUBLISH
X-PUBLISHED-TTL:P3D
REFRESH-INTERVAL:P3D
CALSCALE:GREGORIAN
BEGIN:VEVENT
DTSTART:20110924T230000Z
DTEND:20110925T010000Z
X-MICROSOFT-CDO-ALLDAYEVENT:FALSE
SUMMARY:Third Annual Music for Sudan Organ Recital
DESCRIPTION:Saturday\, September 24th\, 2011 at 6:00 PM\, Elmhurst's Church of Our Saviour located at 116 E. Church Street\, Elmhurst\, IL (corner of Church and Kenilworth in Elmhurst) will host the Third Annual Music for Sudan Organ Recital. The organ recital will feature Matthew Hogan. Matthew Hogan\, a Chicago native\, is the organist and handbell director at St. Peter's UCC in Elmhurst.\n\n\n\nThe recital is free to the public. There will be a reception and free will offering at the end of the service to benefit St. Mark's Episcopal Church in Jelhak\, Sudan. For more information please call the church office at 630-530-1434. If you cannot attend\, and you would like to make a donation\, please make a check out to Elmhurst's Church of Our Saviour/Sudan\, and mail it to 116 E. Church Street\, Elmhurst\, IL 60126.
X-ALT-DESC;FMTTYPE=text/html:Saturday\, September 24th\, 2011 at 6:00 PM\, Elmhurst&rsquo\;s Church of Our Saviour located at 116 E. Church Street\, Elmhurst\, IL (corner of Church and Kenilworth in Elmhurst) will host the Third Annual Music for Sudan Organ Recital. The organ recital will feature Matthew Hogan. Matthew Hogan\, a Chicago native\, is the organist and handbell director at St. Peter&rsquo\;s UCC in Elmhurst.<br />\n<br />\nThe recital is free to the public. There will be a reception and free will offering at the end of the service to benefit St. Mark&#39\;s Episcopal Church in Jelhak\, Sudan. For more information please call the church office at 630-530-1434. If you cannot attend\, and you would like to make a donation\, please make a check out to Elmhurst&rsquo\;s Church of Our Saviour/Sudan\, and mail it to 116 E. Church Street\, Elmhurst\, IL 60126.<br />\n
LOCATION:Elmhurst's Church of Our Saviour\, 116 E. Church Street\, (corner of Church and Kenilworth)\, Elmhurst
UID:e.333.4406
SEQUENCE:3
DTSTAMP:20260425T132607Z
URL:https://chambermaster.elmhurstchamber.org/events/details/third-annual-music-for-sudan-organ-recital-09-24-2011-4406
END:VEVENT

END:VCALENDAR
