BEGIN:VCALENDAR
VERSION:2.0
PRODID:-//ChamberMaster//Event Calendar 2.0//EN
METHOD:PUBLISH
X-PUBLISHED-TTL:P3D
REFRESH-INTERVAL:P3D
CALSCALE:GREGORIAN
BEGIN:VEVENT
DTSTART:20110310T010000Z
DTEND:20110310T030000Z
X-MICROSOFT-CDO-ALLDAYEVENT:FALSE
SUMMARY:"Three Amigos!" Movie Benefit for ECAF at York Theatre
DESCRIPTION:Community Bank of Elmhurst sponsors the feature film "Three Amigos!" at York Theatre.  All proceeds benefit the Elmhurst Children's Assistance Foundation.
X-ALT-DESC;FMTTYPE=text/html:Community Bank of Elmhurst sponsors the feature film "Three Amigos!" at York Theatre.  All proceeds benefit the Elmhurst Children's Assistance Foundation.
LOCATION:York Theatre 150 N. York Street\, Elmhurst\, IL 60126
UID:e.333.3813
SEQUENCE:3
DTSTAMP:20260425T222447Z
URL:https://chambermaster.elmhurstchamber.org/events/details/three-amigos-movie-benefit-for-ecaf-at-york-theatre-03-09-2011-3813
END:VEVENT

END:VCALENDAR
