BEGIN:VCALENDAR
VERSION:2.0
PRODID:-//ChamberMaster//Event Calendar 2.0//EN
METHOD:PUBLISH
X-PUBLISHED-TTL:P3D
REFRESH-INTERVAL:P3D
CALSCALE:GREGORIAN
BEGIN:VEVENT
DTSTART:20110615T164500Z
DTEND:20110615T174500Z
X-MICROSOFT-CDO-ALLDAYEVENT:FALSE
SUMMARY:Top 10 Mistakes Small Businesses Make and How to Avoid Them
DESCRIPTION:As part of our Professional Speaker Seminar Series\, SMB Advantage Group  (Jennifer Speaker)  will be speaking about the Top 10 Mistakes Small Businesses make and how to can prevent making those mistakes. \n\n\n\nAttendance will be free to Chamber members and special guests. \n\n\n\nComplimentary food and beverages will be provided\n\n\n\nThere is a maximum attendance of 25 people for the event.
X-ALT-DESC;FMTTYPE=text/html:As part of our Professional Speaker Seminar Series\, SMB Advantage Group<span _fck_bookmark="1" style="display: none">&nbsp\;</span> (Jennifer Speaker)&nbsp\; will be speaking about the Top 10 Mistakes Small Businesses make and how&nbsp\;to can prevent making those mistakes.&nbsp\;<br />\n<br />\nAttendance will be free to Chamber members and special guests.&nbsp\;<br />\n<br />\nComplimentary food and beverages will be provided<br />\n<br />\nThere is a maximum attendance of 25 people for the event.
LOCATION:Elmhurst Chamber of Commerce & Industry Community Bank of Elmhurst Board Room 242 N York St.\, Ste 102 Elmhurst\, IL 60126
UID:e.333.4200
SEQUENCE:3
DTSTAMP:20260425T174645Z
URL:https://chambermaster.elmhurstchamber.org/events/details/top-10-mistakes-small-businesses-make-and-how-to-avoid-them-06-15-2011-4200
END:VEVENT

END:VCALENDAR
