BEGIN:VCALENDAR
VERSION:2.0
PRODID:-//ChamberMaster//Event Calendar 2.0//EN
METHOD:PUBLISH
X-PUBLISHED-TTL:P3D
REFRESH-INTERVAL:P3D
CALSCALE:GREGORIAN
BEGIN:VEVENT
DTSTART:20110615T130000Z
DTEND:20110615T140000Z
X-MICROSOFT-CDO-ALLDAYEVENT:FALSE
SUMMARY:Top 5 Strategies for Motivating and Retaining Top-Performing Employees
DESCRIPTION:As part of our Professional Speaker Seminar Series\, PredictiveAssets (Dave McCaffrey) will be our featured speaker during this time. \n\n\n\n"As fewer workers with the required skill sets enter the job market\, companies must find new ways to develop\, motivate\, and retain talent.  This briefing will provide you with the Top 5 Strategies for Motivating and Retaining Top-Performing Employees"  \n\n\n\nAttendance will be free to Chamber members and special guests.   Seating is limited to the first 25 registrants.\n\n\n\nComplimentary food and beverages will be provided
X-ALT-DESC;FMTTYPE=text/html:<span style="font-size: 12px"><span style="font-family: arial">As part of our Professional Speaker Seminar Series\, PredictiveAssets (Dave McCaffrey) will be our featured speaker during this time.&nbsp\;<br />\n<br />\n&ldquo\;A<span style="font-style: italic">s fewer workers with the required skill sets enter the job market\, companies must find new ways to develop\, motivate\, and retain talent.&nbsp\; This briefing will provide you with the Top 5 Strategies for Motivating and Retaining Top-Performing Employees&rdquo\;&nbsp\; </span><br />\n<br />\nAttendance will be free to Chamber members and special guests.&nbsp\;&nbsp\; Seating is limited to the first 25 registrants.<br />\n<br />\nComplimentary food and beverages will be provided</span></span>
LOCATION:Elmhurst Chamber of Commerce & Industry Community Bank of Elmhurst Board Room 242 N York St.\, Ste 102 Elmhurst\, IL 60126
UID:e.333.4199
SEQUENCE:3
DTSTAMP:20260425T192610Z
URL:https://chambermaster.elmhurstchamber.org/events/details/top-5-strategies-for-motivating-and-retaining-top-performing-employees-06-15-2011-4199
END:VEVENT

END:VCALENDAR
