BEGIN:VCALENDAR
VERSION:2.0
PRODID:-//ChamberMaster//Event Calendar 2.0//EN
METHOD:PUBLISH
X-PUBLISHED-TTL:P3D
REFRESH-INTERVAL:P3D
CALSCALE:GREGORIAN
BEGIN:VEVENT
DTSTART:20111108T010000Z
DTEND:20111213T040000Z
X-MICROSOFT-CDO-ALLDAYEVENT:FALSE
SUMMARY:Top chorus searching for new members
DESCRIPTION:The Choral-Aires Chorus hosts a series of guest nights to prepare for the group's guest appearance at the December 17 Christmas show\, "Christmas Dreams" presented by the Brotherhood of Harmony Chorus. Women of all ages are invited to join the chorus. Guest nights are held each Monday through December 12\, from 7   10 p.m.\, at the Redeemer Lutheran Church Recreation Center (345 S. Kenilworth Avenue\, Elmhurst). For more information\, visit http://www.choral-aires.com or contact Valerie Baxter at 630.279.1439 or vbaxter@sbcglobal.net. This program is partially supported by a grant from the Illinois Arts Council\, a state agency.
X-ALT-DESC;FMTTYPE=text/html:The Choral-Aires Chorus hosts a series of guest nights to prepare for the group&rsquo\;s guest appearance at the December 17 Christmas show\, &ldquo\;Christmas Dreams&rdquo\; presented by the Brotherhood of Harmony Chorus. Women of all ages are invited to join the chorus. Guest nights are held each Monday through December 12\, from 7 &ndash\; 10 p.m.\, at the Redeemer Lutheran Church Recreation Center (345 S. Kenilworth Avenue\, Elmhurst). For more information\, visit http://www.choral-aires.com or contact Valerie Baxter at 630.279.1439 or vbaxter@sbcglobal.net. This program is partially supported by a grant from the Illinois Arts Council\, a state agency.<br />\n
LOCATION:Redeemer Lutheran Church Recreation Center
UID:e.333.4583
SEQUENCE:3
DTSTAMP:20260425T102804Z
URL:https://chambermaster.elmhurstchamber.org/events/details/top-chorus-searching-for-new-members-11-07-2011-4583
END:VEVENT

END:VCALENDAR
