BEGIN:VCALENDAR
VERSION:2.0
PRODID:-//ChamberMaster//Event Calendar 2.0//EN
METHOD:PUBLISH
X-PUBLISHED-TTL:P3D
REFRESH-INTERVAL:P3D
CALSCALE:GREGORIAN
BEGIN:VEVENT
DTSTART:20130907T150000Z
DTEND:20130907T170000Z
X-MICROSOFT-CDO-ALLDAYEVENT:FALSE
SUMMARY:Touch a Truck
DESCRIPTION:All ages (children must be accompanied by an adult) Join us for an exciting morning of getting up close and personal with trucks and working equipment we can even climb on and pretend to operate ourselves!  We?ll have fire trucks\, tow trucks\, bob cats\, cement trucks\, police cars\, buses\, army vehicles\, ambulance and maybe a visit from a helicopter.  Vehicles are subject to availability.  \n\n If your company would like to join us\, just call the program manager at (630) 993-8922.  It?s loud so be prepared!  Free T-shirts until they run out for the children.
X-ALT-DESC;FMTTYPE=text/html:<font color="#000000" face="Calibri" size="3">All ages (children must be accompanied by an adult)</font><font color="#000000"><font face="Times New Roman" size="3"> </font><span style="font-family: &quot\;Calibri&quot\;\,&quot\;sans-serif&quot\;\; font-size: 11pt\; mso-ascii-theme-font: minor-latin\; mso-fareast-font-family: Calibri\; mso-fareast-theme-font: minor-latin\; mso-hansi-theme-font: minor-latin\; mso-bidi-font-family: &quot\;Times New Roman&quot\;\; mso-bidi-theme-font: minor-bidi\; mso-ansi-language: EN-US\; mso-fareast-language: EN-US\; mso-bidi-language: AR-SA\;">Join us for an exciting morning of getting up close and personal with trucks and working equipment we can even climb on and pretend to operate ourselves!<span style="mso-spacerun: yes\;">&nbsp\; </span>We?ll have fire trucks\, tow trucks\, bob cats\, cement trucks\, police cars\, buses\, army vehicles\, ambulance and maybe a visit from a helicopter.<span style="mso-spacerun: yes\;">&nbsp\; </span>Vehicles are subject to availability.<span style="mso-spacerun: yes\;">&nbsp\; </span><br>\n<span style="mso-spacerun: yes\;">&nbsp\;</span>If your company would like to join us\, just call the program manager at (630) 993-8922.<span style="mso-spacerun: yes\;">&nbsp\; </span>It?s loud so be prepared!<span style="mso-spacerun: yes\;">&nbsp\; </span>Free T-shirts until they run out for the children.</span></font>
LOCATION:Berens Parking east lot 493 Oaklawn Ave\, Elmhurst\, IL 60126
UID:e.333.5566
SEQUENCE:3
DTSTAMP:20260422T112124Z
URL:https://chambermaster.elmhurstchamber.org/events/details/touch-a-truck-09-07-2013-5566
END:VEVENT

END:VCALENDAR
