BEGIN:VCALENDAR
VERSION:2.0
PRODID:-//ChamberMaster//Event Calendar 2.0//EN
METHOD:PUBLISH
X-PUBLISHED-TTL:P3D
REFRESH-INTERVAL:P3D
CALSCALE:GREGORIAN
BEGIN:VEVENT
DTSTART:20120908T150000Z
DTEND:20120908T170000Z
X-MICROSOFT-CDO-ALLDAYEVENT:FALSE
SUMMARY:Touch A Truck
DESCRIPTION:Join us for an exciting morning of getting up close and personal with trucks and working equipment that you can even climb on and pretend to operate yourself! There will be fire trucks\, tow trucks\, bob cats\, cement trucks\, police cars\, buses\, army vehicles\, ambulances and maybe even a visit from a helicopter!
X-ALT-DESC;FMTTYPE=text/html:<p class="MsoNormal" style="margin: 0in 0in 0pt">\n	<span style="line-height: 115%\; font-family: 'cambria'\, 'serif'\; font-size: 12pt\; mso-ascii-theme-font: major-latin\; mso-hansi-theme-font: major-latin"><font color="#000000">Join us for an exciting morning of getting up close and personal with trucks and working equipment that you can even climb on and pretend to operate yourself! There will be fire trucks\, tow trucks\, bob cats\, cement trucks\, police cars\, buses\, army vehicles\, ambulances and maybe even a visit from a helicopter!</font></span></p>\n
LOCATION:Berens Park East Parking Lot
UID:e.333.4901
SEQUENCE:3
DTSTAMP:20260424T175537Z
URL:https://chambermaster.elmhurstchamber.org/events/details/touch-a-truck-09-08-2012-4901
END:VEVENT

END:VCALENDAR
