BEGIN:VCALENDAR
VERSION:2.0
PRODID:-//ChamberMaster//Event Calendar 2.0//EN
METHOD:PUBLISH
X-PUBLISHED-TTL:P3D
REFRESH-INTERVAL:P3D
CALSCALE:GREGORIAN
BEGIN:VEVENT
DTSTART;VALUE=DATE:20121119
DTEND;VALUE=DATE:20121215
TRANSP:TRANSPARENT
X-MICROSOFT-CDO-ALLDAYEVENT:TRUE
SUMMARY:Toys for Tots drop off location
DESCRIPTION:Edward Jones is supporting the Toys for Tots program by using our office as a drop-off location for this year's toy drive.\n\n\n\nHelp needy children in the area by bringing in a new\, unwrapped toy to the office during regular business hours. With the holiday season just around the corner\, we are all busy getting ready for the festivities and\, as this is the season of giving\, now is a great time to remember the less fortunate in our community.\n\n\n\nCome on over and be part of this charitable drive! Contact me today for more details\, including driving directions.
X-ALT-DESC;FMTTYPE=text/html:<span style="color: #800080"><span style="font-size: 14px">Edward Jones is supporting the Toys for Tots program by using our office as a drop-off location for this year&#39\;s toy drive.<br />\n<br />\nHelp needy children in the area by bringing in a new\, unwrapped toy to the office during regular business hours. With the holiday season just around the corner\, we are all busy getting ready for the festivities and\, as this is the season of giving\, now is a great time to remember the less fortunate in our community.<br />\n<br />\nCome on over and be part of this charitable drive! Contact me today for more details\, including driving directions.</span></span><br />\n<br />\n
LOCATION:Edward Jones 115 W Vallette Elmhurst\, IL 60126
UID:e.333.5130
SEQUENCE:3
DTSTAMP:20260424T132117Z
URL:https://chambermaster.elmhurstchamber.org/events/details/toys-for-tots-drop-off-location-11-19-2012-5130
END:VEVENT

END:VCALENDAR
