BEGIN:VCALENDAR
VERSION:2.0
PRODID:-//ChamberMaster//Event Calendar 2.0//EN
METHOD:PUBLISH
X-PUBLISHED-TTL:P3D
REFRESH-INTERVAL:P3D
CALSCALE:GREGORIAN
BEGIN:VEVENT
DTSTART:20110409T221500Z
DTEND:20110410T040000Z
X-MICROSOFT-CDO-ALLDAYEVENT:FALSE
SUMMARY:Treasure Hunt Road Rallye
DESCRIPTION:Join us for an evening of fun as your team of six adults drives through Elmhurst following a treasure map of clues. Competing teams begin the hunt at Bryan Middle School and end the night with a dinner\, silent auction\, and raffle at the American Legion\, 301 W. Butterfield\, in Elmhurst. \n\n	\n\n	Registration forms can be found on the Bryan Middle School PTA website. Hurry\, there is a limit of 40 cars and spaces fill up fast!
X-ALT-DESC;FMTTYPE=text/html:<p>\n	<span style="font-family: verdana"><span><span><span>Join us for an evening of fun as your team of six adults drives through Elmhurst following a treasure map of clues.&nbsp\;Competing teams begin the hunt at Bryan Middle School and end the night with a dinner\, silent auction\, and raffle at the American Legion\, 301 W. Butterfield\, in Elmhurst.&nbsp\;</span></span></span></span><br />\n	<br />\n	<span style="font-family: verdana">Registration forms can be found on the Bryan Middle School PTA website. Hurry\, there is a limit of 40 cars and spaces fill up fast!<span _fck_bookmark="1" style="display: none">&nbsp\;</span><br />\n	&nbsp\;</span></p>\n
LOCATION:Bryan Middle School 111 W Butterfield Road
UID:e.333.4089
SEQUENCE:3
DTSTAMP:20260425T204738Z
URL:https://chambermaster.elmhurstchamber.org/events/details/treasure-hunt-road-rallye-04-09-2011-4089
END:VEVENT

END:VCALENDAR
