BEGIN:VCALENDAR
VERSION:2.0
PRODID:-//ChamberMaster//Event Calendar 2.0//EN
METHOD:PUBLISH
X-PUBLISHED-TTL:P3D
REFRESH-INTERVAL:P3D
CALSCALE:GREGORIAN
BEGIN:VEVENT
DTSTART:20121207T000000Z
DTEND:20121207T000000Z
X-MICROSOFT-CDO-ALLDAYEVENT:FALSE
SUMMARY:Tree Lighting
DESCRIPTION:Join the holiday spirit in an old-fashioned celebration at Wilder Park. Get your family\, friends\, or group and decorate a holiday tree. Come to the Wagner Community Center to register and pick out your tree location for decorating. There will also be a collection of non-perishable food items for the local food pantry near the Community Tree at Tree Lighting. Cost is $40 to reserve a tree.
X-ALT-DESC;FMTTYPE=text/html:<p class="MsoNormal" style="margin: 0in 0in 0pt">\n	<span style="line-height: 115%\; font-family: 'cambria'\, 'serif'\; font-size: 12pt\; mso-ascii-theme-font: major-latin\; mso-hansi-theme-font: major-latin"><font color="#000000">Join the holiday spirit in an old-fashioned celebration at Wilder Park. Get your family\, friends\, or group and decorate a holiday tree. Come to the Wagner Community Center to register and pick out your tree location for decorating. There will also be a collection of non-perishable food items for the local food pantry near the Community Tree at Tree Lighting. Cost is $40 to reserve a tree.</font></span></p>\n
LOCATION:Wilder Park
UID:e.333.4909
SEQUENCE:3
DTSTAMP:20260424T131723Z
URL:https://chambermaster.elmhurstchamber.org/events/details/tree-lighting-12-06-2012-4909
END:VEVENT

END:VCALENDAR
