BEGIN:VCALENDAR
VERSION:2.0
PRODID:-//ChamberMaster//Event Calendar 2.0//EN
METHOD:PUBLISH
X-PUBLISHED-TTL:P3D
REFRESH-INTERVAL:P3D
CALSCALE:GREGORIAN
BEGIN:VEVENT
DTSTART:20121027T160000Z
DTEND:20121027T180000Z
X-MICROSOFT-CDO-ALLDAYEVENT:FALSE
SUMMARY:Trunk Or Treat
DESCRIPTION:Come and visit the parking lot of Immanuel Lutheran Church and School for our Trunk Or Treat.  The families and staff of Immanuel will dress in fun costumes\, open their car trunks\, and have goodies for the children of Elmhurst.  We invite all to visit this safe and entertaining fall event.
X-ALT-DESC;FMTTYPE=text/html:Come and visit the parking lot of Immanuel Lutheran Church and School for our Trunk Or Treat.&nbsp\; The families and staff of Immanuel will dress in fun costumes\, open their car&nbsp\;trunks\, and have goodies for the children of Elmhurst.&nbsp\; We invite all to visit&nbsp\;this safe and entertaining fall event.&nbsp\; 
LOCATION:Immanuel Lutheran Church and School 142 E. Third Street\, Elmhurst
UID:e.333.5085
SEQUENCE:3
DTSTAMP:20260424T162347Z
URL:https://chambermaster.elmhurstchamber.org/events/details/trunk-or-treat-10-27-2012-5085
END:VEVENT

END:VCALENDAR
