BEGIN:VCALENDAR
VERSION:2.0
PRODID:-//ChamberMaster//Event Calendar 2.0//EN
METHOD:PUBLISH
X-PUBLISHED-TTL:P3D
REFRESH-INTERVAL:P3D
CALSCALE:GREGORIAN
BEGIN:VEVENT
DTSTART:20101113T180000Z
DTEND:20101113T060000Z
X-MICROSOFT-CDO-ALLDAYEVENT:FALSE
SUMMARY:Turkey Testicle Festival
DESCRIPTION:Turkey Testicle Festival hosted by the Elmhurst American Legion Post 187. Live bands include: Southern Jack\, Stems\, Josh and the Empty Pockets\, Groove Busters & Sleeping Dogs.  Food and drinks available for purchase.\n\n\n\nJoin us for FUN and MUSIC!
X-ALT-DESC;FMTTYPE=text/html:Turkey Testicle Festival hosted by the Elmhurst American Legion Post 187. Live bands include: Southern Jack\, Stems\, Josh and the Empty Pockets\, Groove Busters &amp\; Sleeping Dogs.&nbsp\; Food and drinks available for purchase.<br />\n<br />\nJoin us for FUN and MUSIC!
LOCATION:Normandy Banquet Hall 310 W. Butterfield Rd. (at Spring Rd.) Elmhurst\, IL 60126
UID:e.333.3515
SEQUENCE:3
DTSTAMP:20260426T042949Z
URL:https://chambermaster.elmhurstchamber.org/events/details/turkey-testicle-festival-11-13-2010-3515
END:VEVENT

END:VCALENDAR
