BEGIN:VCALENDAR
VERSION:2.0
PRODID:-//ChamberMaster//Event Calendar 2.0//EN
METHOD:PUBLISH
X-PUBLISHED-TTL:P3D
REFRESH-INTERVAL:P3D
CALSCALE:GREGORIAN
BEGIN:VEVENT
DTSTART:20130406T003000Z
DTEND:20130406T020000Z
X-MICROSOFT-CDO-ALLDAYEVENT:FALSE
SUMMARY:"Tween Night" At Splatters!
DESCRIPTION:Tweens/Teens\, have your parents drop you off at Splatters on Friday nights from 7:30-9pm\, to create and have fun! Each week there will be cool\, featured projects for girls and guys\, decorating cupcakes\, fruit punch\, karaoke\, dancing\, limbo\, and lots of creative fun! Price is $18. Visit Splatters any Friday in April and receive $2 off. Be sure to bring your iPods and even pizza\, if you would like\, for a fun filled Friday night with your friends!
X-ALT-DESC;FMTTYPE=text/html:Tweens/Teens\, have your parents drop you off at Splatters on Friday nights from 7:30-9pm\, to create and have fun! Each week there will be cool\, featured projects for girls and guys\, decorating cupcakes\, fruit punch\, karaoke\, dancing\, limbo\, and lots of creative fun! Price is $18. Visit Splatters any Friday in April and receive $2 off. Be sure to bring your iPods and even pizza\, if you would like\, for a fun filled Friday night with your friends! 
LOCATION:131 N Addison Ave Elmhurst IL\, 60126
UID:e.333.5269
SEQUENCE:3
DTSTAMP:20260422T194027Z
URL:https://chambermaster.elmhurstchamber.org/events/details/tween-night-at-splatters-04-05-2013-5269
END:VEVENT

END:VCALENDAR
