BEGIN:VCALENDAR
VERSION:2.0
PRODID:-//ChamberMaster//Event Calendar 2.0//EN
METHOD:PUBLISH
X-PUBLISHED-TTL:P3D
REFRESH-INTERVAL:P3D
CALSCALE:GREGORIAN
BEGIN:VEVENT
DTSTART:20130202T230000Z
DTEND:20130203T050000Z
X-MICROSOFT-CDO-ALLDAYEVENT:FALSE
SUMMARY:UIC Basketball Game
DESCRIPTION:The Elmhurst Park District and the UIC Flames have teamed up to provide a special opportunity for the families of Elmhurst.  We will be providing discounted tickets and bus transportation to an upcoming men's basketball game.  All groups must have an adult chaperone.  The bus will be picking up and dropping off at The Hub at Berens Park\, 493 Oaklawn Avenue.  All participants must ride the bus to and from the game.  If you have any questions\, please contact the program manager at (630) 993-8980.
X-ALT-DESC;FMTTYPE=text/html:<br />\nThe Elmhurst Park District and the UIC Flames have teamed up to provide a special opportunity for the families of Elmhurst.&nbsp\; We will be providing discounted tickets and bus transportation to an upcoming men&#39\;s basketball game.&nbsp\; All groups must have an adult chaperone.&nbsp\; The bus will be picking up and dropping off at The Hub at Berens Park\, 493 Oaklawn Avenue.&nbsp\; All participants must ride the bus to and from the game.&nbsp\; If you have any questions\, please contact the program manager at (630) 993-8980.
LOCATION:Berens Park The Hub
UID:e.333.5110
SEQUENCE:3
DTSTAMP:20260424T114250Z
URL:https://chambermaster.elmhurstchamber.org/events/details/uic-basketball-game-02-02-2013-5110
END:VEVENT

END:VCALENDAR
