BEGIN:VCALENDAR
VERSION:2.0
PRODID:-//ChamberMaster//Event Calendar 2.0//EN
METHOD:PUBLISH
X-PUBLISHED-TTL:P3D
REFRESH-INTERVAL:P3D
CALSCALE:GREGORIAN
BEGIN:VEVENT
DTSTART:20130511T000000Z
DTEND:20130511T040000Z
X-MICROSOFT-CDO-ALLDAYEVENT:FALSE
SUMMARY:United Community Concerns Association Anniversary Celebration
DESCRIPTION:United Community Concerns Association would like you to come and celebrate with them on their 35 years of Neighbors helping Neighbors\, on May 10\, 2013 from 7 p.m to 11p.m. Wine and beer tasting provided by Tannins Bar and Boutique Music by TriTone Sax Trio. \n\n\n\nOrder tickets by May 3.\n\nTo purches ticket online\, go to www.ucca-elmhurst.org or send payment to\n\nUCCA 125 W. Church St. Elmhurst\, IL 60126
X-ALT-DESC;FMTTYPE=text/html:United Community Concerns Association would like you to come and celebrate with them on their 35 years of Neighbors helping Neighbors\, on May 10\, 2013 from 7 p.m to 11p.m. Wine and beer tasting provided by Tannins Bar and Boutique Music by TriTone Sax Trio.&nbsp\;<br />\n<br />\nOrder tickets by May 3.<br />\nTo purches ticket online\, go to www.ucca-elmhurst.org or send payment to<br />\nUCCA 125 W. Church St. Elmhurst\, IL 60126&nbsp\;
LOCATION:The Hyatt Lodge at McDonald's Campus 2815 Jorie Bouldevard Oak Brook\, IL
UID:e.333.5286
SEQUENCE:3
DTSTAMP:20260422T180650Z
URL:https://chambermaster.elmhurstchamber.org/events/details/united-community-concerns-association-anniversary-celebration-05-10-2013-5286
END:VEVENT

END:VCALENDAR
