BEGIN:VCALENDAR
VERSION:2.0
PRODID:-//ChamberMaster//Event Calendar 2.0//EN
METHOD:PUBLISH
X-PUBLISHED-TTL:P3D
REFRESH-INTERVAL:P3D
CALSCALE:GREGORIAN
BEGIN:VEVENT
DTSTART:20110409T150000Z
DTEND:20110409T190000Z
X-MICROSOFT-CDO-ALLDAYEVENT:FALSE
SUMMARY:Used Bike Collection Drive
DESCRIPTION:Used Bike Drive - drop off any bike in any condition.\n\n\n\nYour old bike can make a huge difference in someoneâ??s life!\n\nWorking Bikes Cooperative non-profit organization refurbishes old bikes to donate them to people in need- domestic and overseas.
X-ALT-DESC;FMTTYPE=text/html:Used Bike Drive - drop off any bike in any condition.\n<br>\n<br>Your old bike can make a huge difference in someoneâ??s life!\n<br>Working Bikes Cooperative non-profit organization refurbishes old bikes to donate them to people in need- domestic and overseas. 
LOCATION:Elmhurst Police Station 125 E. 1st Street West Parking Lot
UID:e.333.4106
SEQUENCE:3
DTSTAMP:20260425T221001Z
URL:https://chambermaster.elmhurstchamber.org/events/details/used-bike-collection-drive-04-09-2011-4106
END:VEVENT

END:VCALENDAR
