BEGIN:VCALENDAR
VERSION:2.0
PRODID:-//ChamberMaster//Event Calendar 2.0//EN
METHOD:PUBLISH
X-PUBLISHED-TTL:P3D
REFRESH-INTERVAL:P3D
CALSCALE:GREGORIAN
BEGIN:VEVENT
DTSTART:20110604T133000Z
DTEND:20110604T200000Z
X-MICROSOFT-CDO-ALLDAYEVENT:FALSE
SUMMARY:Visitation CCW Parish Wide Garage Sale & Market
DESCRIPTION:
X-ALT-DESC;FMTTYPE=text/html:
LOCATION:Visitation School Parking Lot 851 S. York Road Elmhurst\, IL 60126
UID:e.333.4226
SEQUENCE:3
DTSTAMP:20260425T175500Z
URL:https://chambermaster.elmhurstchamber.org/events/details/visitation-ccw-parish-wide-garage-sale-market-06-04-2011-4226
END:VEVENT

END:VCALENDAR
