BEGIN:VCALENDAR
VERSION:2.0
PRODID:-//ChamberMaster//Event Calendar 2.0//EN
METHOD:PUBLISH
X-PUBLISHED-TTL:P3D
REFRESH-INTERVAL:P3D
CALSCALE:GREGORIAN
BEGIN:VEVENT
DTSTART:20110510T233000Z
DTEND:20110511T013000Z
X-MICROSOFT-CDO-ALLDAYEVENT:FALSE
SUMMARY:Volapalooza
DESCRIPTION:To celebrate the spirit of volunteerism that thrives in DuPage County\, the community is invited to attend Volapalooza!\, an evening of entertainment and awards is hosted by Giving DuPage\, Community Memorial Foundation and The DuPage Community Foundation.
X-ALT-DESC;FMTTYPE=text/html:To celebrate the spirit of volunteerism that thrives in DuPage County\, the community is invited to attend Volapalooza!\, an evening of entertainment and awards is hosted by Giving DuPage\, Community Memorial Foundation and The DuPage Community Foundation.
LOCATION:McAninch Arts Center at College of DuPage 425 Fawell Blvd. Glen Ellyn\, IL 60137
UID:e.333.4140
SEQUENCE:3
DTSTAMP:20260425T191059Z
URL:https://chambermaster.elmhurstchamber.org/events/details/volapalooza-05-10-2011-4140
END:VEVENT

END:VCALENDAR
